BEGIN:VCALENDAR
VERSION:2.0
PRODID:-//https://www.yarrawongamulwala.com.au///NONSGML kigkonsult.se iCalcreator 2.10.15//
METHOD:PUBLISH
BEGIN:VEVENT
UID:20210227T094307GMT-9502BbrO49@https://www.yarrawongamulwala.com.au/
DTSTAMP:20210227T094307Z
DESCRIPTION:Gates open at 8am - Gold Coin Donation. Family Friendly Event. 
 Mulwala Public School Easter market Extravaganza includes: Kids Rides\, Un
 ique Arts and Crafts\, Family Entertainment\, Barbecue\, Cakes Stalls\, Sh
 owbags and more.
DTSTART:20210402T220000Z
DTEND:20210403T030000Z
LOCATION:Mulwala Primary School (59 Melbourne Street Mulwala NSW 2647)
SUMMARY:Mulwala Public School Easter Market Extravaganza
END:VEVENT
END:VCALENDAR
