BEGIN:VCALENDAR
VERSION:2.0
PRODID:-//https://www.yarrawongamulwala.com.au///NONSGML kigkonsult.se iCalcreator 2.10.15//
METHOD:PUBLISH
BEGIN:VEVENT
UID:20210227T094207GMT-8491ATcKPv@https://www.yarrawongamulwala.com.au/
DTSTAMP:20210227T094207Z
DESCRIPTION:Located on the Yarrawonga Foreshore every 4th Sunday of the Mon
 th\, you will find wonderful seasonable fruit\, vegetables and nuts. Fresh
 ly baked sour dough breads\, rolls danish pastries and almond croissants\,
  donuts and chocolate sauce\, Italian style biscuits\, jams and pickles an
 d so much more. Pure 100% honey available in various size containers and b
 ees wax food covers. Taste your way through chilli sauce to see how you ra
 te yourself from zero to hero status. 8.00am - 12.30pm - fresh baked goods
  are very popular so do come early before they all go. Grab a sausage sizz
 le from our Masonic Lodge friends\, and stock up on the BEST salt bush fed
  lamb in Australia and on Berkshire Pork.
DTSTART:20210327T220000Z
DTEND:20210328T023000Z
LOCATION:Yarrawonga Foreshore (Hunt Street\, Yarrawonga)
SUMMARY:Yarrawonga Farmers Market
END:VEVENT
END:VCALENDAR
